BEGIN:VCALENDAR
VERSION:2.0
PRODID:-//くちない - ECPv6.15.20//NONSGML v1.0//EN
CALSCALE:GREGORIAN
METHOD:PUBLISH
X-ORIGINAL-URL:https://kuchinai.org
X-WR-CALDESC:くちない のイベント
REFRESH-INTERVAL;VALUE=DURATION:PT1H
X-Robots-Tag:noindex
X-PUBLISHED-TTL:PT1H
BEGIN:VTIMEZONE
TZID:Asia/Tokyo
BEGIN:STANDARD
TZOFFSETFROM:+0900
TZOFFSETTO:+0900
TZNAME:JST
DTSTART:20250101T000000
END:STANDARD
END:VTIMEZONE
BEGIN:VEVENT
DTSTART;TZID=Asia/Tokyo:20260422T190000
DTEND;TZID=Asia/Tokyo:20260422T190000
DTSTAMP:20260423T005933
CREATED:20260409T040257Z
LAST-MODIFIED:20260409T040257Z
UID:281-1776884400-1776884400@kuchinai.org
SUMMARY:口内鬼剣舞
DESCRIPTION:
URL:https://kuchinai.org/schedule/%e5%8f%a3%e5%86%85%e9%ac%bc%e5%89%a3%e8%88%9e-7/
LOCATION:交流センター　ホール
CATEGORIES:交流センター使用予定
END:VEVENT
BEGIN:VEVENT
DTSTART;TZID=Asia/Tokyo:20260421T190000
DTEND;TZID=Asia/Tokyo:20260421T190000
DTSTAMP:20260423T005933
CREATED:20260409T040245Z
LAST-MODIFIED:20260409T040245Z
UID:279-1776798000-1776798000@kuchinai.org
SUMMARY:口内鬼剣舞
DESCRIPTION:
URL:https://kuchinai.org/schedule/%e5%8f%a3%e5%86%85%e9%ac%bc%e5%89%a3%e8%88%9e-6/
LOCATION:交流センター　ホール
CATEGORIES:交流センター使用予定
END:VEVENT
BEGIN:VEVENT
DTSTART;TZID=Asia/Tokyo:20260421T190000
DTEND;TZID=Asia/Tokyo:20260421T190000
DTSTAMP:20260423T005933
CREATED:20260409T034538Z
LAST-MODIFIED:20260409T035955Z
UID:238-1776798000-1776798000@kuchinai.org
SUMMARY:福祉協力員会議
DESCRIPTION:
URL:https://kuchinai.org/schedule/%e7%a6%8f%e7%a5%89%e5%8d%94%e5%8a%9b%e5%93%a1%e4%bc%9a%e8%ad%b0/
LOCATION:交流センター　和室
CATEGORIES:交流センター使用予定
END:VEVENT
BEGIN:VEVENT
DTSTART;TZID=Asia/Tokyo:20260421T130000
DTEND;TZID=Asia/Tokyo:20260421T130000
DTSTAMP:20260423T005933
CREATED:20260409T040904Z
LAST-MODIFIED:20260409T040904Z
UID:321-1776776400-1776776400@kuchinai.org
SUMMARY:寺っこ屋
DESCRIPTION:
URL:https://kuchinai.org/schedule/%e5%af%ba%e3%81%a3%e3%81%93%e5%b1%8b-9/
LOCATION:交流センター　和室
CATEGORIES:交流センター使用予定
END:VEVENT
BEGIN:VEVENT
DTSTART;TZID=Asia/Tokyo:20260420T190000
DTEND;TZID=Asia/Tokyo:20260420T190000
DTSTAMP:20260423T005933
CREATED:20260409T033610Z
LAST-MODIFIED:20260409T034338Z
UID:235-1776711600-1776711600@kuchinai.org
SUMMARY:口内町民俗芸能保存会
DESCRIPTION:
URL:https://kuchinai.org/schedule/%e5%8f%a3%e5%86%85%e7%94%ba%e6%b0%91%e4%bf%97%e8%8a%b8%e8%83%bd%e4%bf%9d%e5%ad%98%e4%bc%9a/
LOCATION:交流センター　ホール
CATEGORIES:交流センター使用予定
END:VEVENT
BEGIN:VEVENT
DTSTART;TZID=Asia/Tokyo:20260418T190000
DTEND;TZID=Asia/Tokyo:20260418T190000
DTSTAMP:20260423T005933
CREATED:20260409T040946Z
LAST-MODIFIED:20260409T040946Z
UID:325-1776538800-1776538800@kuchinai.org
SUMMARY:口内鹿踊
DESCRIPTION:
URL:https://kuchinai.org/schedule/%e5%8f%a3%e5%86%85%e9%b9%bf%e8%b8%8a-2/
LOCATION:交流センター　ホール
CATEGORIES:交流センター使用予定
END:VEVENT
BEGIN:VEVENT
DTSTART;TZID=Asia/Tokyo:20260417T133000
DTEND;TZID=Asia/Tokyo:20260417T133000
DTSTAMP:20260423T005933
CREATED:20260409T043219Z
LAST-MODIFIED:20260409T043219Z
UID:354-1776432600-1776432600@kuchinai.org
SUMMARY:5区　コスモス
DESCRIPTION:茶話会
URL:https://kuchinai.org/schedule/5%e5%8c%ba%e3%80%80%e3%82%b3%e3%82%b9%e3%83%a2%e3%82%b9/
CATEGORIES:ふれあいデイサービス
END:VEVENT
BEGIN:VEVENT
DTSTART;TZID=Asia/Tokyo:20260417T090000
DTEND;TZID=Asia/Tokyo:20260417T090000
DTSTAMP:20260423T005933
CREATED:20260409T043410Z
LAST-MODIFIED:20260409T043410Z
UID:359-1776416400-1776416400@kuchinai.org
SUMMARY:7区　ひばり会
DESCRIPTION:防犯について：口内駐在所長
URL:https://kuchinai.org/schedule/7%e5%8c%ba%e3%80%80%e3%81%b2%e3%81%b0%e3%82%8a%e4%bc%9a/
CATEGORIES:ふれあいデイサービス
END:VEVENT
BEGIN:VEVENT
DTSTART;TZID=Asia/Tokyo:20260416T190000
DTEND;TZID=Asia/Tokyo:20260416T190000
DTSTAMP:20260423T005933
CREATED:20260409T040603Z
LAST-MODIFIED:20260409T040603Z
UID:299-1776366000-1776366000@kuchinai.org
SUMMARY:ヨーガ教室
DESCRIPTION:
URL:https://kuchinai.org/schedule/%e3%83%a8%e3%83%bc%e3%82%ac%e6%95%99%e5%ae%a4-3/
LOCATION:交流センター　和室
CATEGORIES:交流センター使用予定
END:VEVENT
BEGIN:VEVENT
DTSTART;TZID=Asia/Tokyo:20260416T100000
DTEND;TZID=Asia/Tokyo:20260416T100000
DTSTAMP:20260423T005933
CREATED:20260409T040450Z
LAST-MODIFIED:20260409T042752Z
UID:289-1776333600-1776333600@kuchinai.org
SUMMARY:いきいき100歳体操
DESCRIPTION:
URL:https://kuchinai.org/schedule/%e3%81%84%e3%81%8d%e3%81%84%e3%81%8d100%e6%ad%b3%e4%bd%93%e6%93%8d-3/
LOCATION:交流センター　ホール
CATEGORIES:交流センター使用予定
END:VEVENT
BEGIN:VEVENT
DTSTART;TZID=Asia/Tokyo:20260415T190000
DTEND;TZID=Asia/Tokyo:20260415T190000
DTSTAMP:20260423T005933
CREATED:20260409T040232Z
LAST-MODIFIED:20260409T040232Z
UID:277-1776279600-1776279600@kuchinai.org
SUMMARY:口内鬼剣舞
DESCRIPTION:
URL:https://kuchinai.org/schedule/%e5%8f%a3%e5%86%85%e9%ac%bc%e5%89%a3%e8%88%9e-5/
LOCATION:交流センター　ホール
CATEGORIES:交流センター使用予定
END:VEVENT
BEGIN:VEVENT
DTSTART;TZID=Asia/Tokyo:20260414T190000
DTEND;TZID=Asia/Tokyo:20260414T190000
DTSTAMP:20260423T005933
CREATED:20260409T040221Z
LAST-MODIFIED:20260409T040221Z
UID:275-1776193200-1776193200@kuchinai.org
SUMMARY:口内鬼剣舞
DESCRIPTION:
URL:https://kuchinai.org/schedule/%e5%8f%a3%e5%86%85%e9%ac%bc%e5%89%a3%e8%88%9e-4/
LOCATION:交流センター　ホール
CATEGORIES:交流センター使用予定
END:VEVENT
BEGIN:VEVENT
DTSTART;TZID=Asia/Tokyo:20260414T190000
DTEND;TZID=Asia/Tokyo:20260414T190000
DTSTAMP:20260423T005933
CREATED:20260409T021341Z
LAST-MODIFIED:20260409T021341Z
UID:210-1776193200-1776193200@kuchinai.org
SUMMARY:生涯学習部
DESCRIPTION:
URL:https://kuchinai.org/schedule/%e7%94%9f%e6%b6%af%e5%ad%a6%e7%bf%92%e9%83%a8/
LOCATION:交流センター　ホール
CATEGORIES:交流センター使用予定
END:VEVENT
BEGIN:VEVENT
DTSTART;TZID=Asia/Tokyo:20260414T093000
DTEND;TZID=Asia/Tokyo:20260414T093000
DTSTAMP:20260423T005933
CREATED:20260409T041035Z
LAST-MODIFIED:20260409T041035Z
UID:329-1776159000-1776159000@kuchinai.org
SUMMARY:1区　あたご会
DESCRIPTION:脳トレ・筋力トレーニング：スポーツ協会
URL:https://kuchinai.org/schedule/1%e5%8c%ba%e3%80%80%e3%81%82%e3%81%9f%e3%81%94%e4%bc%9a/
CATEGORIES:ふれあいデイサービス
END:VEVENT
BEGIN:VEVENT
DTSTART;TZID=Asia/Tokyo:20260411T140000
DTEND;TZID=Asia/Tokyo:20260411T140000
DTSTAMP:20260423T005933
CREATED:20260409T020207Z
LAST-MODIFIED:20260409T021049Z
UID:207-1775916000-1775916000@kuchinai.org
SUMMARY:自治協総会
DESCRIPTION:
URL:https://kuchinai.org/schedule/%e8%87%aa%e6%b2%bb%e5%8d%94%e7%b7%8f%e4%bc%9a/
LOCATION:交流センター　ホール
CATEGORIES:交流センター使用予定
END:VEVENT
BEGIN:VEVENT
DTSTART;TZID=Asia/Tokyo:20260410T130000
DTEND;TZID=Asia/Tokyo:20260410T130000
DTSTAMP:20260423T005933
CREATED:20260409T040851Z
LAST-MODIFIED:20260409T040851Z
UID:319-1775826000-1775826000@kuchinai.org
SUMMARY:寺っこ屋
DESCRIPTION:
URL:https://kuchinai.org/schedule/%e5%af%ba%e3%81%a3%e3%81%93%e5%b1%8b-8/
LOCATION:交流センター　和室
CATEGORIES:交流センター使用予定
END:VEVENT
BEGIN:VEVENT
DTSTART;TZID=Asia/Tokyo:20260409T190000
DTEND;TZID=Asia/Tokyo:20260409T190000
DTSTAMP:20260423T005933
CREATED:20260409T040553Z
LAST-MODIFIED:20260409T040553Z
UID:297-1775761200-1775761200@kuchinai.org
SUMMARY:ヨーガ教室
DESCRIPTION:
URL:https://kuchinai.org/schedule/%e3%83%a8%e3%83%bc%e3%82%ac%e6%95%99%e5%ae%a4-2/
LOCATION:交流センター　和室
CATEGORIES:交流センター使用予定
END:VEVENT
BEGIN:VEVENT
DTSTART;TZID=Asia/Tokyo:20260409T140000
DTEND;TZID=Asia/Tokyo:20260409T140000
DTSTAMP:20260423T005933
CREATED:20260409T043331Z
LAST-MODIFIED:20260409T043331Z
UID:357-1775743200-1775743200@kuchinai.org
SUMMARY:6区　浅間会
DESCRIPTION:民舞踊：幸の会
URL:https://kuchinai.org/schedule/6%e5%8c%ba%e3%80%80%e6%b5%85%e9%96%93%e4%bc%9a/
CATEGORIES:ふれあいデイサービス
END:VEVENT
BEGIN:VEVENT
DTSTART;TZID=Asia/Tokyo:20260409T130000
DTEND;TZID=Asia/Tokyo:20260409T130000
DTSTAMP:20260423T005933
CREATED:20260409T040842Z
LAST-MODIFIED:20260409T040842Z
UID:317-1775739600-1775739600@kuchinai.org
SUMMARY:寺っこ屋
DESCRIPTION:
URL:https://kuchinai.org/schedule/%e5%af%ba%e3%81%a3%e3%81%93%e5%b1%8b-7/
LOCATION:交流センター　和室
CATEGORIES:交流センター使用予定
END:VEVENT
BEGIN:VEVENT
DTSTART;TZID=Asia/Tokyo:20260409T100000
DTEND;TZID=Asia/Tokyo:20260409T100000
DTSTAMP:20260423T005933
CREATED:20260409T040434Z
LAST-MODIFIED:20260409T042709Z
UID:287-1775728800-1775728800@kuchinai.org
SUMMARY:いきいき100歳体操
DESCRIPTION:
URL:https://kuchinai.org/schedule/%e3%81%84%e3%81%8d%e3%81%84%e3%81%8d100%e6%ad%b3%e4%bd%93%e6%93%8d-2/
LOCATION:交流センター　ホール
CATEGORIES:交流センター使用予定
END:VEVENT
BEGIN:VEVENT
DTSTART;TZID=Asia/Tokyo:20260408T190000
DTEND;TZID=Asia/Tokyo:20260408T190000
DTSTAMP:20260423T005933
CREATED:20260409T040206Z
LAST-MODIFIED:20260409T040206Z
UID:273-1775674800-1775674800@kuchinai.org
SUMMARY:口内鬼剣舞
DESCRIPTION:
URL:https://kuchinai.org/schedule/%e5%8f%a3%e5%86%85%e9%ac%bc%e5%89%a3%e8%88%9e-3/
LOCATION:交流センター　ホール
CATEGORIES:交流センター使用予定
END:VEVENT
BEGIN:VEVENT
DTSTART;TZID=Asia/Tokyo:20260408T130000
DTEND;TZID=Asia/Tokyo:20260408T130000
DTSTAMP:20260423T005933
CREATED:20260409T040831Z
LAST-MODIFIED:20260409T040831Z
UID:315-1775653200-1775653200@kuchinai.org
SUMMARY:寺っこ屋
DESCRIPTION:
URL:https://kuchinai.org/schedule/%e5%af%ba%e3%81%a3%e3%81%93%e5%b1%8b-6/
LOCATION:交流センター　和室
CATEGORIES:交流センター使用予定
END:VEVENT
BEGIN:VEVENT
DTSTART;TZID=Asia/Tokyo:20260408T093000
DTEND;TZID=Asia/Tokyo:20260408T093000
DTSTAMP:20260423T005933
CREATED:20260409T043510Z
LAST-MODIFIED:20260409T043510Z
UID:363-1775640600-1775640600@kuchinai.org
SUMMARY:9区　福寿会
DESCRIPTION:民舞踊：やよい会
URL:https://kuchinai.org/schedule/9%e5%8c%ba%e3%80%80%e7%a6%8f%e5%af%bf%e4%bc%9a/
CATEGORIES:ふれあいデイサービス
END:VEVENT
BEGIN:VEVENT
DTSTART;TZID=Asia/Tokyo:20260407T190000
DTEND;TZID=Asia/Tokyo:20260407T190000
DTSTAMP:20260423T005933
CREATED:20260409T040154Z
LAST-MODIFIED:20260409T040154Z
UID:271-1775588400-1775588400@kuchinai.org
SUMMARY:口内鬼剣舞
DESCRIPTION:
URL:https://kuchinai.org/schedule/%e5%8f%a3%e5%86%85%e9%ac%bc%e5%89%a3%e8%88%9e-2/
LOCATION:交流センター　ホール
CATEGORIES:交流センター使用予定
END:VEVENT
BEGIN:VEVENT
DTSTART;TZID=Asia/Tokyo:20260407T130000
DTEND;TZID=Asia/Tokyo:20260407T130000
DTSTAMP:20260423T005933
CREATED:20260409T040822Z
LAST-MODIFIED:20260409T040822Z
UID:313-1775566800-1775566800@kuchinai.org
SUMMARY:寺っこ屋
DESCRIPTION:
URL:https://kuchinai.org/schedule/%e5%af%ba%e3%81%a3%e3%81%93%e5%b1%8b-5/
LOCATION:交流センター　和室
CATEGORIES:交流センター使用予定
END:VEVENT
BEGIN:VEVENT
DTSTART;TZID=Asia/Tokyo:20260407T093000
DTEND;TZID=Asia/Tokyo:20260407T093000
DTSTAMP:20260423T005933
CREATED:20260409T043141Z
LAST-MODIFIED:20260409T043141Z
UID:352-1775554200-1775554200@kuchinai.org
SUMMARY:4区　阿古耶会
DESCRIPTION:民謡：口内民謡愛好会
URL:https://kuchinai.org/schedule/4%e5%8c%ba%e3%80%80%e9%98%bf%e5%8f%a4%e8%80%b6%e4%bc%9a/
CATEGORIES:ふれあいデイサービス
END:VEVENT
BEGIN:VEVENT
DTSTART;TZID=Asia/Tokyo:20260406T133000
DTEND;TZID=Asia/Tokyo:20260406T133000
DTSTAMP:20260423T005933
CREATED:20260409T043440Z
LAST-MODIFIED:20260409T043440Z
UID:361-1775482200-1775482200@kuchinai.org
SUMMARY:8区　小池会
DESCRIPTION:よもぎ大福づくり：昆野広子
URL:https://kuchinai.org/schedule/8%e5%8c%ba%e3%80%80%e5%b0%8f%e6%b1%a0%e4%bc%9a/
CATEGORIES:ふれあいデイサービス
END:VEVENT
BEGIN:VEVENT
DTSTART;TZID=Asia/Tokyo:20260406T090000
DTEND;TZID=Asia/Tokyo:20260406T090000
DTSTAMP:20260423T005933
CREATED:20260409T040759Z
LAST-MODIFIED:20260409T040759Z
UID:311-1775466000-1775466000@kuchinai.org
SUMMARY:寺っこ屋
DESCRIPTION:
URL:https://kuchinai.org/schedule/%e5%af%ba%e3%81%a3%e3%81%93%e5%b1%8b-4/
LOCATION:交流センター　和室
CATEGORIES:交流センター使用予定
END:VEVENT
BEGIN:VEVENT
DTSTART;TZID=Asia/Tokyo:20260404T190000
DTEND;TZID=Asia/Tokyo:20260404T190000
DTSTAMP:20260423T005933
CREATED:20260409T040935Z
LAST-MODIFIED:20260409T040935Z
UID:323-1775329200-1775329200@kuchinai.org
SUMMARY:口内鹿踊
DESCRIPTION:
URL:https://kuchinai.org/schedule/%e5%8f%a3%e5%86%85%e9%b9%bf%e8%b8%8a/
LOCATION:交流センター　ホール
CATEGORIES:交流センター使用予定
END:VEVENT
BEGIN:VEVENT
DTSTART;TZID=Asia/Tokyo:20260403T090000
DTEND;TZID=Asia/Tokyo:20260403T090000
DTSTAMP:20260423T005933
CREATED:20260409T040750Z
LAST-MODIFIED:20260409T040750Z
UID:309-1775206800-1775206800@kuchinai.org
SUMMARY:寺っこ屋
DESCRIPTION:
URL:https://kuchinai.org/schedule/%e5%af%ba%e3%81%a3%e3%81%93%e5%b1%8b-3/
LOCATION:交流センター　和室
CATEGORIES:交流センター使用予定
END:VEVENT
END:VCALENDAR