BEGIN:VCALENDAR
VERSION:2.0
PRODID:-//くちない - ECPv6.15.20//NONSGML v1.0//EN
CALSCALE:GREGORIAN
METHOD:PUBLISH
X-ORIGINAL-URL:https://kuchinai.org
X-WR-CALDESC:くちない のイベント
REFRESH-INTERVAL;VALUE=DURATION:PT1H
X-Robots-Tag:noindex
X-PUBLISHED-TTL:PT1H
BEGIN:VTIMEZONE
TZID:Asia/Tokyo
BEGIN:STANDARD
TZOFFSETFROM:+0900
TZOFFSETTO:+0900
TZNAME:JST
DTSTART:20250101T000000
END:STANDARD
END:VTIMEZONE
BEGIN:VEVENT
DTSTART;TZID=Asia/Tokyo:20260423T093000
DTEND;TZID=Asia/Tokyo:20260423T093000
DTSTAMP:20260423T010615
CREATED:20260409T043110Z
LAST-MODIFIED:20260409T043250Z
UID:350-1776936600-1776936600@kuchinai.org
SUMMARY:3区　はやま会
DESCRIPTION:茶話会
URL:https://kuchinai.org/schedule/3%e5%8c%ba%e3%80%80%e3%81%af%e3%82%84%e3%81%be%e4%bc%9a/
CATEGORIES:ふれあいデイサービス
END:VEVENT
BEGIN:VEVENT
DTSTART;TZID=Asia/Tokyo:20260507T093000
DTEND;TZID=Asia/Tokyo:20260507T093000
DTSTAMP:20260423T010615
CREATED:20260419T075820Z
LAST-MODIFIED:20260419T075820Z
UID:18160-1778146200-1778146200@kuchinai.org
SUMMARY:4区　阿古耶会
DESCRIPTION:お花見会
URL:https://kuchinai.org/schedule/4%e5%8c%ba%e3%80%80%e9%98%bf%e5%8f%a4%e8%80%b6%e4%bc%9a-2/
CATEGORIES:ふれあいデイサービス
END:VEVENT
BEGIN:VEVENT
DTSTART;TZID=Asia/Tokyo:20260511T133000
DTEND;TZID=Asia/Tokyo:20260511T133000
DTSTAMP:20260423T010615
CREATED:20260419T080216Z
LAST-MODIFIED:20260419T080216Z
UID:18171-1778506200-1778506200@kuchinai.org
SUMMARY:8区　小池会
DESCRIPTION:DVD鑑賞　【浮牛城まつり】
URL:https://kuchinai.org/schedule/8%e5%8c%ba%e3%80%80%e5%b0%8f%e6%b1%a0%e4%bc%9a-2/
CATEGORIES:ふれあいデイサービス
END:VEVENT
BEGIN:VEVENT
DTSTART;TZID=Asia/Tokyo:20260512T093000
DTEND;TZID=Asia/Tokyo:20260512T093000
DTSTAMP:20260423T010615
CREATED:20260419T075601Z
LAST-MODIFIED:20260419T075957Z
UID:18154-1778578200-1778578200@kuchinai.org
SUMMARY:1区　あたご会
DESCRIPTION:民舞踊・三味線　【松の会】
URL:https://kuchinai.org/schedule/1%e5%8c%ba%e3%80%80%e3%81%82%e3%81%9f%e3%81%94%e4%bc%9a-2/
CATEGORIES:ふれあいデイサービス
END:VEVENT
BEGIN:VEVENT
DTSTART;TZID=Asia/Tokyo:20260513T093000
DTEND;TZID=Asia/Tokyo:20260513T093000
DTSTAMP:20260423T010615
CREATED:20260419T080300Z
LAST-MODIFIED:20260419T080300Z
UID:18173-1778664600-1778664600@kuchinai.org
SUMMARY:9区　福寿会
DESCRIPTION:落語　【高見舘国男】
URL:https://kuchinai.org/schedule/9%e5%8c%ba%e3%80%80%e7%a6%8f%e5%af%bf%e4%bc%9a-2/
CATEGORIES:ふれあいデイサービス
END:VEVENT
BEGIN:VEVENT
DTSTART;TZID=Asia/Tokyo:20260513T133000
DTEND;TZID=Asia/Tokyo:20260513T133000
DTSTAMP:20260423T010615
CREATED:20260419T075651Z
LAST-MODIFIED:20260419T075945Z
UID:18156-1778679000-1778679000@kuchinai.org
SUMMARY:2区　明神会
DESCRIPTION:民舞踊　【幸の会】
URL:https://kuchinai.org/schedule/2%e5%8c%ba%e3%80%80%e6%98%8e%e7%a5%9e%e4%bc%9a-2/
CATEGORIES:ふれあいデイサービス
END:VEVENT
BEGIN:VEVENT
DTSTART;TZID=Asia/Tokyo:20260514T133000
DTEND;TZID=Asia/Tokyo:20260514T133000
DTSTAMP:20260423T010615
CREATED:20260419T080053Z
LAST-MODIFIED:20260419T080053Z
UID:18167-1778765400-1778765400@kuchinai.org
SUMMARY:6区　浅間会
DESCRIPTION:民舞踊・三味線　【喜友会】 \n血圧測定
URL:https://kuchinai.org/schedule/6%e5%8c%ba%e3%80%80%e6%b5%85%e9%96%93%e4%bc%9a-2/
CATEGORIES:ふれあいデイサービス
END:VEVENT
BEGIN:VEVENT
DTSTART;TZID=Asia/Tokyo:20260515T090000
DTEND;TZID=Asia/Tokyo:20260515T090000
DTSTAMP:20260423T010615
CREATED:20260419T080131Z
LAST-MODIFIED:20260419T080131Z
UID:18169-1778835600-1778835600@kuchinai.org
SUMMARY:7区　ひばり会
DESCRIPTION:法話　【藤村浩禪】
URL:https://kuchinai.org/schedule/7%e5%8c%ba%e3%80%80%e3%81%b2%e3%81%b0%e3%82%8a%e4%bc%9a-2/
CATEGORIES:ふれあいデイサービス
END:VEVENT
BEGIN:VEVENT
DTSTART;TZID=Asia/Tokyo:20260515T133000
DTEND;TZID=Asia/Tokyo:20260515T133000
DTSTAMP:20260423T010615
CREATED:20260419T075903Z
LAST-MODIFIED:20260419T075903Z
UID:18162-1778851800-1778851800@kuchinai.org
SUMMARY:5区　コスモス
DESCRIPTION:野花の写真鑑賞　【伊藤松男】
URL:https://kuchinai.org/schedule/5%e5%8c%ba%e3%80%80%e3%82%b3%e3%82%b9%e3%83%a2%e3%82%b9-2/
CATEGORIES:ふれあいデイサービス
END:VEVENT
BEGIN:VEVENT
DTSTART;TZID=Asia/Tokyo:20260528T093000
DTEND;TZID=Asia/Tokyo:20260528T093000
DTSTAMP:20260423T010615
CREATED:20260419T075743Z
LAST-MODIFIED:20260419T075931Z
UID:18158-1779960600-1779960600@kuchinai.org
SUMMARY:3区　はやま会
DESCRIPTION:ゲーム　【ボッチャ】
URL:https://kuchinai.org/schedule/3%e5%8c%ba%e3%80%80%e3%81%af%e3%82%84%e3%81%be%e4%bc%9a-2/
CATEGORIES:ふれあいデイサービス
END:VEVENT
END:VCALENDAR