BEGIN:VCALENDAR
VERSION:2.0
PRODID:-//くちない - ECPv6.15.20//NONSGML v1.0//EN
CALSCALE:GREGORIAN
METHOD:PUBLISH
X-WR-CALNAME:くちない
X-ORIGINAL-URL:https://kuchinai.org
X-WR-CALDESC:くちない のイベント
REFRESH-INTERVAL;VALUE=DURATION:PT1H
X-Robots-Tag:noindex
X-PUBLISHED-TTL:PT1H
BEGIN:VTIMEZONE
TZID:Asia/Tokyo
BEGIN:STANDARD
TZOFFSETFROM:+0900
TZOFFSETTO:+0900
TZNAME:JST
DTSTART:20250101T000000
END:STANDARD
END:VTIMEZONE
BEGIN:VEVENT
DTSTART;TZID=Asia/Tokyo:20260423T100000
DTEND;TZID=Asia/Tokyo:20260423T100000
DTSTAMP:20260423T010505
CREATED:20260409T040459Z
LAST-MODIFIED:20260409T042730Z
UID:291-1776938400-1776938400@kuchinai.org
SUMMARY:いきいき100歳体操
DESCRIPTION:
URL:https://kuchinai.org/schedule/%e3%81%84%e3%81%8d%e3%81%84%e3%81%8d100%e6%ad%b3%e4%bd%93%e6%93%8d-4/
LOCATION:交流センター　ホール
CATEGORIES:交流センター使用予定
END:VEVENT
BEGIN:VEVENT
DTSTART;TZID=Asia/Tokyo:20260423T190000
DTEND;TZID=Asia/Tokyo:20260423T190000
DTSTAMP:20260423T010505
CREATED:20260409T040611Z
LAST-MODIFIED:20260409T040611Z
UID:301-1776970800-1776970800@kuchinai.org
SUMMARY:ヨーガ教室
DESCRIPTION:
URL:https://kuchinai.org/schedule/%e3%83%a8%e3%83%bc%e3%82%ac%e6%95%99%e5%ae%a4-4/
LOCATION:交流センター　和室
CATEGORIES:交流センター使用予定
END:VEVENT
BEGIN:VEVENT
DTSTART;TZID=Asia/Tokyo:20260425T190000
DTEND;TZID=Asia/Tokyo:20260425T190000
DTSTAMP:20260423T010505
CREATED:20260409T040954Z
LAST-MODIFIED:20260409T040954Z
UID:327-1777143600-1777143600@kuchinai.org
SUMMARY:口内鹿踊
DESCRIPTION:
URL:https://kuchinai.org/schedule/%e5%8f%a3%e5%86%85%e9%b9%bf%e8%b8%8a-3/
LOCATION:交流センター　ホール
CATEGORIES:交流センター使用予定
END:VEVENT
BEGIN:VEVENT
DTSTART;TZID=Asia/Tokyo:20260428T190000
DTEND;TZID=Asia/Tokyo:20260428T190000
DTSTAMP:20260423T010505
CREATED:20260409T040307Z
LAST-MODIFIED:20260409T040307Z
UID:283-1777402800-1777402800@kuchinai.org
SUMMARY:口内鬼剣舞
DESCRIPTION:
URL:https://kuchinai.org/schedule/%e5%8f%a3%e5%86%85%e9%ac%bc%e5%89%a3%e8%88%9e-8/
LOCATION:交流センター　ホール
CATEGORIES:交流センター使用予定
END:VEVENT
BEGIN:VEVENT
DTSTART;TZID=Asia/Tokyo:20260430T100000
DTEND;TZID=Asia/Tokyo:20260430T100000
DTSTAMP:20260423T010505
CREATED:20260409T040508Z
LAST-MODIFIED:20260409T042832Z
UID:293-1777543200-1777543200@kuchinai.org
SUMMARY:いきいき100歳体操
DESCRIPTION:
URL:https://kuchinai.org/schedule/%e3%81%84%e3%81%8d%e3%81%84%e3%81%8d100%e6%ad%b3%e4%bd%93%e6%93%8d-5/
LOCATION:交流センター　ホール
CATEGORIES:交流センター使用予定
END:VEVENT
BEGIN:VEVENT
DTSTART;TZID=Asia/Tokyo:20260430T190000
DTEND;TZID=Asia/Tokyo:20260430T190000
DTSTAMP:20260423T010505
CREATED:20260409T040620Z
LAST-MODIFIED:20260409T040620Z
UID:303-1777575600-1777575600@kuchinai.org
SUMMARY:ヨーガ教室
DESCRIPTION:
URL:https://kuchinai.org/schedule/%e3%83%a8%e3%83%bc%e3%82%ac%e6%95%99%e5%ae%a4-5/
LOCATION:交流センター　和室
CATEGORIES:交流センター使用予定
END:VEVENT
BEGIN:VEVENT
DTSTART;TZID=Asia/Tokyo:20260501T140000
DTEND;TZID=Asia/Tokyo:20260501T140000
DTSTAMP:20260423T010505
CREATED:20260419T080456Z
LAST-MODIFIED:20260419T080456Z
UID:18175-1777644000-1777644000@kuchinai.org
SUMMARY:口内昔語り
DESCRIPTION:
URL:https://kuchinai.org/schedule/%e5%8f%a3%e5%86%85%e6%98%94%e8%aa%9e%e3%82%8a/
LOCATION:交流センター　会議室
CATEGORIES:交流センター使用予定
END:VEVENT
BEGIN:VEVENT
DTSTART;TZID=Asia/Tokyo:20260502T100000
DTEND;TZID=Asia/Tokyo:20260502T220000
DTSTAMP:20260423T010505
CREATED:20260419T080532Z
LAST-MODIFIED:20260419T080532Z
UID:18179-1777716000-1777759200@kuchinai.org
SUMMARY:室内モルック体験
DESCRIPTION:
URL:https://kuchinai.org/schedule/%e5%ae%a4%e5%86%85%e3%83%a2%e3%83%ab%e3%83%83%e3%82%af%e4%bd%93%e9%a8%93/
LOCATION:交流センター　ホール
CATEGORIES:交流センター使用予定
END:VEVENT
BEGIN:VEVENT
DTSTART;TZID=Asia/Tokyo:20260507T093000
DTEND;TZID=Asia/Tokyo:20260507T213000
DTSTAMP:20260423T010505
CREATED:20260419T080743Z
LAST-MODIFIED:20260419T080743Z
UID:18181-1778146200-1778189400@kuchinai.org
SUMMARY:特定検診
DESCRIPTION:※区によって午前（9：30～）・午後（13：00～）と分かれます
URL:https://kuchinai.org/schedule/%e7%89%b9%e5%ae%9a%e6%a4%9c%e8%a8%ba/
LOCATION:交流センター　全館
CATEGORIES:交流センター使用予定
END:VEVENT
BEGIN:VEVENT
DTSTART;TZID=Asia/Tokyo:20260507T190000
DTEND;TZID=Asia/Tokyo:20260507T190000
DTSTAMP:20260423T010505
CREATED:20260419T091720Z
LAST-MODIFIED:20260419T091720Z
UID:18214-1778180400-1778180400@kuchinai.org
SUMMARY:ヨーガ教室
DESCRIPTION:
URL:https://kuchinai.org/schedule/%e3%83%a8%e3%83%bc%e3%82%ac%e6%95%99%e5%ae%a4-6/
LOCATION:交流センター　和室
CATEGORIES:交流センター使用予定
END:VEVENT
BEGIN:VEVENT
DTSTART;TZID=Asia/Tokyo:20260509T190000
DTEND;TZID=Asia/Tokyo:20260509T190000
DTSTAMP:20260423T010505
CREATED:20260419T092006Z
LAST-MODIFIED:20260419T092006Z
UID:18228-1778353200-1778353200@kuchinai.org
SUMMARY:口内鹿踊
DESCRIPTION:
URL:https://kuchinai.org/schedule/%e5%8f%a3%e5%86%85%e9%b9%bf%e8%b8%8a-4/
LOCATION:交流センター　ホール
CATEGORIES:交流センター使用予定
END:VEVENT
BEGIN:VEVENT
DTSTART;TZID=Asia/Tokyo:20260510T093000
DTEND;TZID=Asia/Tokyo:20260510T093000
DTSTAMP:20260423T010505
CREATED:20260419T080913Z
LAST-MODIFIED:20260419T083014Z
UID:18185-1778405400-1778405400@kuchinai.org
SUMMARY:料理部「ごまぶかし」
DESCRIPTION:
URL:https://kuchinai.org/schedule/%e6%96%99%e7%90%86%e9%83%a8%e3%80%8c%e3%81%94%e3%81%be%e3%81%b6%e3%81%8b%e3%81%97%e3%80%8d/
LOCATION:交流センター　調理室
CATEGORIES:交流センター使用予定
END:VEVENT
BEGIN:VEVENT
DTSTART;TZID=Asia/Tokyo:20260510T104500
DTEND;TZID=Asia/Tokyo:20260510T104500
DTSTAMP:20260423T010505
CREATED:20260419T081300Z
LAST-MODIFIED:20260419T081300Z
UID:18191-1778409900-1778409900@kuchinai.org
SUMMARY:狂犬病予防集合注射
DESCRIPTION:
URL:https://kuchinai.org/schedule/%e7%8b%82%e7%8a%ac%e7%97%85%e4%ba%88%e9%98%b2%e9%9b%86%e5%90%88%e6%b3%a8%e5%b0%84/
LOCATION:交流センター　駐車場
CATEGORIES:交流センター使用予定
END:VEVENT
BEGIN:VEVENT
DTSTART;TZID=Asia/Tokyo:20260510T113000
DTEND;TZID=Asia/Tokyo:20260510T113000
DTSTAMP:20260423T010505
CREATED:20260419T081048Z
LAST-MODIFIED:20260419T081116Z
UID:18189-1778412600-1778412600@kuchinai.org
SUMMARY:ごまぶかし おふるまい
DESCRIPTION:※限定20食
URL:https://kuchinai.org/schedule/%e3%81%94%e3%81%be%e3%81%b6%e3%81%8b%e3%81%97-%e3%81%8a%e3%81%b5%e3%82%8b%e3%81%be%e3%81%84/
LOCATION:交流センター　和室
CATEGORIES:交流センター使用予定
END:VEVENT
BEGIN:VEVENT
DTSTART;TZID=Asia/Tokyo:20260512T190000
DTEND;TZID=Asia/Tokyo:20260512T190000
DTSTAMP:20260423T010505
CREATED:20260419T091544Z
LAST-MODIFIED:20260419T091544Z
UID:18202-1778612400-1778612400@kuchinai.org
SUMMARY:口内鬼剣舞
DESCRIPTION:
URL:https://kuchinai.org/schedule/%e5%8f%a3%e5%86%85%e9%ac%bc%e5%89%a3%e8%88%9e-9/
LOCATION:交流センター　ホール
CATEGORIES:交流センター使用予定
END:VEVENT
BEGIN:VEVENT
DTSTART;TZID=Asia/Tokyo:20260513T190000
DTEND;TZID=Asia/Tokyo:20260513T190000
DTSTAMP:20260423T010505
CREATED:20260419T091557Z
LAST-MODIFIED:20260419T091557Z
UID:18204-1778698800-1778698800@kuchinai.org
SUMMARY:口内鬼剣舞
DESCRIPTION:
URL:https://kuchinai.org/schedule/%e5%8f%a3%e5%86%85%e9%ac%bc%e5%89%a3%e8%88%9e-10/
LOCATION:交流センター　ホール
CATEGORIES:交流センター使用予定
END:VEVENT
BEGIN:VEVENT
DTSTART;TZID=Asia/Tokyo:20260514T100000
DTEND;TZID=Asia/Tokyo:20260514T100000
DTSTAMP:20260423T010505
CREATED:20260419T091828Z
LAST-MODIFIED:20260419T091828Z
UID:18222-1778752800-1778752800@kuchinai.org
SUMMARY:いきいき100歳体操
DESCRIPTION:
URL:https://kuchinai.org/schedule/%e3%81%84%e3%81%8d%e3%81%84%e3%81%8d100%e6%ad%b3%e4%bd%93%e6%93%8d-6/
LOCATION:交流センター　ホール
CATEGORIES:交流センター使用予定
END:VEVENT
BEGIN:VEVENT
DTSTART;TZID=Asia/Tokyo:20260514T190000
DTEND;TZID=Asia/Tokyo:20260514T190000
DTSTAMP:20260423T010505
CREATED:20260419T091730Z
LAST-MODIFIED:20260419T091730Z
UID:18216-1778785200-1778785200@kuchinai.org
SUMMARY:ヨーガ教室
DESCRIPTION:
URL:https://kuchinai.org/schedule/%e3%83%a8%e3%83%bc%e3%82%ac%e6%95%99%e5%ae%a4-7/
LOCATION:交流センター　和室
CATEGORIES:交流センター使用予定
END:VEVENT
BEGIN:VEVENT
DTSTART;TZID=Asia/Tokyo:20260516T190000
DTEND;TZID=Asia/Tokyo:20260516T190000
DTSTAMP:20260423T010505
CREATED:20260419T092017Z
LAST-MODIFIED:20260419T092017Z
UID:18230-1778958000-1778958000@kuchinai.org
SUMMARY:口内鹿踊
DESCRIPTION:
URL:https://kuchinai.org/schedule/%e5%8f%a3%e5%86%85%e9%b9%bf%e8%b8%8a-5/
LOCATION:交流センター　ホール
CATEGORIES:交流センター使用予定
END:VEVENT
BEGIN:VEVENT
DTSTART;TZID=Asia/Tokyo:20260518T090000
DTEND;TZID=Asia/Tokyo:20260518T090000
DTSTAMP:20260423T010505
CREATED:20260419T081335Z
LAST-MODIFIED:20260419T081335Z
UID:18196-1779094800-1779094800@kuchinai.org
SUMMARY:寺っこ屋
DESCRIPTION:
URL:https://kuchinai.org/schedule/%e5%af%ba%e3%81%a3%e3%81%93%e5%b1%8b-10/
LOCATION:交流センター　和室
CATEGORIES:交流センター使用予定
END:VEVENT
BEGIN:VEVENT
DTSTART;TZID=Asia/Tokyo:20260519T190000
DTEND;TZID=Asia/Tokyo:20260519T190000
DTSTAMP:20260423T010505
CREATED:20260419T091608Z
LAST-MODIFIED:20260419T091608Z
UID:18206-1779217200-1779217200@kuchinai.org
SUMMARY:口内鬼剣舞
DESCRIPTION:
URL:https://kuchinai.org/schedule/%e5%8f%a3%e5%86%85%e9%ac%bc%e5%89%a3%e8%88%9e-11/
LOCATION:交流センター　ホール
CATEGORIES:交流センター使用予定
END:VEVENT
BEGIN:VEVENT
DTSTART;TZID=Asia/Tokyo:20260520T133000
DTEND;TZID=Asia/Tokyo:20260520T133000
DTSTAMP:20260423T010505
CREATED:20260419T091406Z
LAST-MODIFIED:20260419T091406Z
UID:18198-1779283800-1779283800@kuchinai.org
SUMMARY:水引きサークル
DESCRIPTION:
URL:https://kuchinai.org/schedule/%e6%b0%b4%e5%bc%95%e3%81%8d%e3%82%b5%e3%83%bc%e3%82%af%e3%83%ab/
LOCATION:交流センター　会議室
CATEGORIES:交流センター使用予定
END:VEVENT
BEGIN:VEVENT
DTSTART;TZID=Asia/Tokyo:20260520T190000
DTEND;TZID=Asia/Tokyo:20260520T190000
DTSTAMP:20260423T010505
CREATED:20260419T091620Z
LAST-MODIFIED:20260419T091620Z
UID:18208-1779303600-1779303600@kuchinai.org
SUMMARY:口内鬼剣舞
DESCRIPTION:
URL:https://kuchinai.org/schedule/%e5%8f%a3%e5%86%85%e9%ac%bc%e5%89%a3%e8%88%9e-12/
LOCATION:交流センター　ホール
CATEGORIES:交流センター使用予定
END:VEVENT
BEGIN:VEVENT
DTSTART;TZID=Asia/Tokyo:20260521T100000
DTEND;TZID=Asia/Tokyo:20260521T100000
DTSTAMP:20260423T010505
CREATED:20260419T091856Z
LAST-MODIFIED:20260419T091856Z
UID:18224-1779357600-1779357600@kuchinai.org
SUMMARY:いきいき100歳体操
DESCRIPTION:
URL:https://kuchinai.org/schedule/%e3%81%84%e3%81%8d%e3%81%84%e3%81%8d100%e6%ad%b3%e4%bd%93%e6%93%8d-7/
LOCATION:交流センター　ホール
CATEGORIES:交流センター使用予定
END:VEVENT
BEGIN:VEVENT
DTSTART;TZID=Asia/Tokyo:20260521T190000
DTEND;TZID=Asia/Tokyo:20260521T190000
DTSTAMP:20260423T010505
CREATED:20260419T091746Z
LAST-MODIFIED:20260419T091746Z
UID:18218-1779390000-1779390000@kuchinai.org
SUMMARY:ヨーガ教室
DESCRIPTION:
URL:https://kuchinai.org/schedule/%e3%83%a8%e3%83%bc%e3%82%ac%e6%95%99%e5%ae%a4-8/
LOCATION:交流センター　和室
CATEGORIES:交流センター使用予定
END:VEVENT
BEGIN:VEVENT
DTSTART;TZID=Asia/Tokyo:20260522T133000
DTEND;TZID=Asia/Tokyo:20260522T133000
DTSTAMP:20260423T010505
CREATED:20260419T091500Z
LAST-MODIFIED:20260419T091500Z
UID:18200-1779456600-1779456600@kuchinai.org
SUMMARY:華道教室
DESCRIPTION:
URL:https://kuchinai.org/schedule/%e8%8f%af%e9%81%93%e6%95%99%e5%ae%a4/
LOCATION:交流センター　会議室
CATEGORIES:交流センター使用予定
END:VEVENT
BEGIN:VEVENT
DTSTART;TZID=Asia/Tokyo:20260526T190000
DTEND;TZID=Asia/Tokyo:20260526T190000
DTSTAMP:20260423T010505
CREATED:20260419T091631Z
LAST-MODIFIED:20260419T091631Z
UID:18210-1779822000-1779822000@kuchinai.org
SUMMARY:口内鬼剣舞
DESCRIPTION:
URL:https://kuchinai.org/schedule/%e5%8f%a3%e5%86%85%e9%ac%bc%e5%89%a3%e8%88%9e-13/
LOCATION:交流センター　ホール
CATEGORIES:交流センター使用予定
END:VEVENT
BEGIN:VEVENT
DTSTART;TZID=Asia/Tokyo:20260527T190000
DTEND;TZID=Asia/Tokyo:20260527T190000
DTSTAMP:20260423T010505
CREATED:20260419T091644Z
LAST-MODIFIED:20260419T091644Z
UID:18212-1779908400-1779908400@kuchinai.org
SUMMARY:口内鬼剣舞
DESCRIPTION:
URL:https://kuchinai.org/schedule/%e5%8f%a3%e5%86%85%e9%ac%bc%e5%89%a3%e8%88%9e-14/
LOCATION:交流センター　ホール
CATEGORIES:交流センター使用予定
END:VEVENT
BEGIN:VEVENT
DTSTART;TZID=Asia/Tokyo:20260528T100000
DTEND;TZID=Asia/Tokyo:20260528T100000
DTSTAMP:20260423T010505
CREATED:20260419T091920Z
LAST-MODIFIED:20260419T091920Z
UID:18226-1779962400-1779962400@kuchinai.org
SUMMARY:いきいき100歳体操
DESCRIPTION:
URL:https://kuchinai.org/schedule/%e3%81%84%e3%81%8d%e3%81%84%e3%81%8d100%e6%ad%b3%e4%bd%93%e6%93%8d-8/
LOCATION:交流センター　ホール
CATEGORIES:交流センター使用予定
END:VEVENT
BEGIN:VEVENT
DTSTART;TZID=Asia/Tokyo:20260528T190000
DTEND;TZID=Asia/Tokyo:20260528T190000
DTSTAMP:20260423T010505
CREATED:20260419T091755Z
LAST-MODIFIED:20260419T091755Z
UID:18220-1779994800-1779994800@kuchinai.org
SUMMARY:ヨーガ教室
DESCRIPTION:
URL:https://kuchinai.org/schedule/%e3%83%a8%e3%83%bc%e3%82%ac%e6%95%99%e5%ae%a4-9/
LOCATION:交流センター　和室
CATEGORIES:交流センター使用予定
END:VEVENT
END:VCALENDAR